BEGIN:VCALENDAR
VERSION:2.0
PRODID:-//https://www.aspedah.ch///NONSGML kigkonsult.se iCalcreator 2.10.15//
METHOD:PUBLISH
BEGIN:VEVENT
UID:20260423T180736CEST-6129vRccAm@https://www.aspedah.ch/
DTSTAMP:20260423T160736Z
DESCRIPTION:⚠️ Information importante \n\nIl n’est malheureusement pas poss
 ible de tenir de liste d’attente pour cette activité.\n Nous rendons atten
 tif au fait qu’AUCUNE personne ne sera admise sur place si son inscription
  n’a pas été enregistrée préalablement via le site de l’ASPEDAH.\n\nIl est
  par ailleurs INUTILE de contacter l'Hôtel pour obtenir des places\, les i
 nscriptions se font exclusivement via la site de l'ASPEDAH.\n \n \n\n \nTD
 AH à l’âge adulte : \ncomprendre\, accompagner\, évoluer \n\n\nLongtemps c
 onsidéré comme un trouble de l’enfance\, le trouble du déficit de l’attent
 ion avec ou sans hyperactivité (TDAH) est aujourd’hui de plus en plus reco
 nnu chez l’adulte. En 2025\, les connaissances progressent\, mais de nombr
 eux défis subsistent\, en particulier pour les personnes qui reçoivent un 
 diagnostic tardif ou qui évoluent dans un environnement peu sensibilisé.\n
 Cette conférence propose un tour d’horizon des réalités du TDAH à l’âge ad
 ulte : des premières années de la vie autonome aux enjeux professionnels\,
  en passant par les spécificités du TDAH au féminin et l’évolution du trou
 ble avec l’âge.\n \nProgramme\n\nIntroduction : Le TDAH en 2025 – état des
  lieux et reconnaissance chez l’adulte\nL’entrée dans la vie adulte : étud
 es\, autonomie\, relations et premiers défis souvent invisibles\nLe TDAH à
  l’âge adulte : réalités quotidiennes\, adaptations et stratégies de compe
 nsation\nFocus : Le TDAH au féminin – symptômes moins visibles\, diagnosti
 cs plus tardifs\nVie professionnelle : charge mentale et équilibre de vie\
 , les enjeux persistants\nL’évolution du TDAH après 55 ans : maturité\, re
 positionnement personnel et nouvelles priorités\nTDAH et avancée en âge : 
 que sait-on ? Continuité\, transformation ou apaisement des manifestations
  ?\nAccompagnements et traitements : quelles approches aujourd’hui pour le
 s adultes ?\nQuestions du public\n\n \nIntervenant\n\n\n\n \n \n\n\n\nProf
 . Nader Perroud\nMédecin adjoint agrégé au Service des spécialités psychia
 triques des Hôpitaux Universitaires de Genève\nProf. Perroud est responsab
 le de l'unité Troubles de la régulation émotionnelle (TRE)\, qui offre un 
 soin spécialisé aux personnes souffrant’un TDAH ou de trouble de la person
 nalité borderline. Professeur à l’Université de Genève\, Nader Perroud dis
 pense des cours et intervient régulièrement lors de conférences sur le TDA
 H tant au niveau national qu’international. Il a publié de nombreux articl
 es et ouvrages sur le TDAH. \n\n\n\n\n \n \n\n\n\n \nInformations pratique
 s\nHoraire : Début 19h00 précises\nLIEU : Rue Marconi 19\, Martigny\nDate 
 : mardi 09 septembre 2025\nHoraires : \n19h00 - 21h00\nCrédits de formatio
 n :\n2 crédits SSPP \nLes inscriptions doivent impérativement se faire via
  le site de l’ASPEDAH. Aucune inscription sur place ne sera possible. Les 
 personnes se présentant sans inscription préalable ne pourront pas être ad
 mises.\n \nPrix :\n\n\n\n\nPour connaître le tarif de l’inscription\, il v
 ous suffit d’ouvrir la page de cet événement sur le site de l’ASPEDAH\, pu
 is de cliquer sur le bouton « S’inscrire ». Le formulaire d’enregistrement
  s’affichera et vous permettra de choisir l’option qui vous convient\, ave
 c le prix correspondant. \n\n\n\n \n\n\n\n\n\n\n https://www.aspedah.ch/co
 mponent/rseventspro/evenement/465-tdah-a-lage-adulte-comprendre-accompagne
 r-evoluer.html?Itemid=12
DTSTART:20250909T170000Z
DTEND:20250909T183000Z
LOCATION:Martigny (Rue Marconi 19 - 1920 Martigny)
SUMMARY:TDAH à l’âge adulte : comprendre\, accompagner\, évoluer
URL:https://www.aspedah.ch/component/rseventspro/evenement/465-tdah-a-lage-
 adulte-comprendre-accompagner-evoluer.html?Itemid=12
END:VEVENT
END:VCALENDAR
